BEGIN:VCALENDAR
VERSION:2.0
PRODID:-//wp-events-plugin.com//7.2.3.1//EN
TZID:Europe/Zurich
X-WR-TIMEZONE:Europe/Zurich
BEGIN:VEVENT
UID:681@thilomuster.info
DTSTART;TZID=Europe/Zurich:20231115T200000
DTEND;TZID=Europe/Zurich:20231115T210000
DTSTAMP:20230911T201347Z
URL:https://thilomuster.info/events/__blues-beyond-am-blues-festival-basel
 /
SUMMARY:BLUES & BEYOND am Blues Festival Basel
DESCRIPTION:Konzert mit den Basler Madrigalisten\, Ltg. Raphael Immmoos\nun
 d Sam Burckhardt\, Saxofon\n\nWerke von Alain (Litanies)\, Muster (Wanderi
 ngs) u.a.\n\nwww.bluesbasel.ch
ATTACH;FMTTYPE=image/jpeg:https://thilomuster.info/wp-content/uploads/2015
 /09/Orgel-Pauluskirche1.jpg
CATEGORIES:Konzerte
LOCATION:Pauluskirche\, Steinenring 20\, Basel\, / CH\, 4051\, / CH\, Schwe
 iz
GEO:47.552394;7.578035
X-APPLE-STRUCTURED-LOCATION;VALUE=URI;X-ADDRESS=Steinenring 20\, Basel\, / 
 CH\, 4051\, / CH\, Schweiz;X-APPLE-RADIUS=100;X-TITLE=Pauluskirche:geo:47.
 552394,7.578035
END:VEVENT
BEGIN:VTIMEZONE
TZID:Europe/Zurich
X-LIC-LOCATION:Europe/Zurich
BEGIN:STANDARD
DTSTART:20231029T020000
TZOFFSETFROM:+0200
TZOFFSETTO:+0100
TZNAME:CET
END:STANDARD
END:VTIMEZONE
END:VCALENDAR