BEGIN:VCALENDAR
VERSION:2.0
PRODID:-//wp-events-plugin.com//7.2.3.1//EN
TZID:Europe/Zurich
X-WR-TIMEZONE:Europe/Zurich
BEGIN:VEVENT
UID:512@thilomuster.info
DTSTART;TZID=Europe/Zurich:20190907T210000
DTEND;TZID=Europe/Zurich:20190907T213000
DTSTAMP:20190704T102659Z
URL:https://thilomuster.info/events/arlesheimer-orgelnacht/
SUMMARY:Arlesheimer Orgelnacht
DESCRIPTION:Konzert im Rahmen der Zweiten Arlesheimer Orgelnacht im Dom zu 
 Arlesheim.\n\nTranskriptionen von Werken von Jean-Philippe Rameau\, Marin 
 Marais und Jean-Féry Rebel
CATEGORIES:Konzerte,Recital
LOCATION:Dom\, Domplatz\, Arlesheim\, / CH\, 4144\, Schweiz
GEO:47.4920827;7.620593900000017
X-APPLE-STRUCTURED-LOCATION;VALUE=URI;X-ADDRESS=Domplatz\, Arlesheim\, / CH
 \, 4144\, Schweiz;X-APPLE-RADIUS=100;X-TITLE=Dom:geo:47.4920827,7.62059390
 0000017
END:VEVENT
BEGIN:VTIMEZONE
TZID:Europe/Zurich
X-LIC-LOCATION:Europe/Zurich
BEGIN:DAYLIGHT
DTSTART:20190331T030000
TZOFFSETFROM:+0100
TZOFFSETTO:+0200
TZNAME:CEST
END:DAYLIGHT
END:VTIMEZONE
END:VCALENDAR