BEGIN:VCALENDAR
VERSION:2.0
PRODID:-//wp-events-plugin.com//7.2.3.1//EN
TZID:Europe/Zurich
X-WR-TIMEZONE:Europe/Zurich
BEGIN:VEVENT
UID:618@thilomuster.info
DTSTART;TZID=Europe/Zurich:20220612T100000
DTEND;TZID=Europe/Zurich:20220612T113000
DTSTAMP:20220412T212844Z
URL:https://thilomuster.info/events/bach-und-schuetz-im-gottesdienst/
SUMMARY:Bach und Schütz im Gottesdienst
DESCRIPTION:Aline Du Pasquier und Linda Deborah Loosli\, Sopran\nChristina 
 Metz\, Alt\nHans-Jürg Rickenbacher\, Tenor\nRobert Koller\, Bass\n\nSimon
  Lilly und Andrew Hammersley\, Trompete\n\nArlesheimer Bach-Kantaten-Chor 
 2020\n\nLeitung Peter Koller (Bach und Schütz)\, Simon Lilly (Fux)\n\nPro
 gramm:\n\nEntrée aus der Suite 83 in C-Dur für 2 Trompeten\,\nPauken\, O
 boe\, Fagott\, Streicher und B. c. von J. J. Fux (1660 – 1741)\n\nMein S
 ohn\, warum hast du uns das getan?\n(SWV 401\, aus den Symphoniae Sacrae I
 II) von H. Schütz (1585 – 1672)\n\nHerr\, Jesu Christ\, wahr‘ Mensch 
 und Gott\nKantate 127 zum Sonntag Estomihi von J. S. Bach (1685 – 1750)\
 n\nMeister\, wir wissen\, dass du wahrhaftig bist\n(SWV 414\, aus den Symp
 honiae Sacrae III) von H. Schütz\n\nPreise\, Jerusalem\, den Herrn\nKanta
 te 119 zum Ratswechselgottesdienst am 30. 8. 1723 von J. S. Bach\n\nEintri
 tt frei. Wir bitten aber um einen Kollektenbeitrag in der Grössen­ordnun
 g von Fr. 30.-  zur Deckung der Unkosten.  Herzlichen Dank!
CATEGORIES:Konzerte
LOCATION:reformierte Kirche\, Stollenrain 20\, Arlesheim\,  / CH\, 4144\, S
 chweiz
GEO:47.4931089;7.615062099999932
X-APPLE-STRUCTURED-LOCATION;VALUE=URI;X-ADDRESS=Stollenrain 20\, Arlesheim\
 ,  / CH\, 4144\, Schweiz;X-APPLE-RADIUS=100;X-TITLE=reformierte Kirche:geo
 :47.4931089,7.615062099999932
END:VEVENT
BEGIN:VTIMEZONE
TZID:Europe/Zurich
X-LIC-LOCATION:Europe/Zurich
BEGIN:DAYLIGHT
DTSTART:20220327T030000
TZOFFSETFROM:+0100
TZOFFSETTO:+0200
TZNAME:CEST
END:DAYLIGHT
END:VTIMEZONE
END:VCALENDAR