BEGIN:VCALENDAR
VERSION:2.0
PRODID:-//wp-events-plugin.com//7.2.3.1//EN
TZID:Europe/Zurich
X-WR-TIMEZONE:Europe/Zurich
BEGIN:VEVENT
UID:737@thilomuster.info
DTSTART;TZID=Europe/Zurich:20250920T190000
DTEND;TZID=Europe/Zurich:20250920T234500
DTSTAMP:20250808T221023Z
URL:https://thilomuster.info/events/dritte-arlesheimer-orgelnacht/
SUMMARY:Dritte Arlesheimer Orgelnacht
DESCRIPTION:Konzerte von 19h bis Mitternacht in der ref. Kirche und im Dom 
 zu Arlesheim\nWeitere Infos hier!
ATTACH;FMTTYPE=image/jpeg:https://thilomuster.info/wp-content/uploads/2025
 /08/Bildschirmfoto-2025-08-08-um-17.19.01.jpg
CATEGORIES:Konzerte,Recital
LOCATION:reformierte Kirche\, Stollenrain 20\, Arlesheim\,  / CH\, 4144\, S
 chweiz
GEO:47.4931089;7.615062099999932
X-APPLE-STRUCTURED-LOCATION;VALUE=URI;X-ADDRESS=Stollenrain 20\, Arlesheim\
 ,  / CH\, 4144\, Schweiz;X-APPLE-RADIUS=100;X-TITLE=reformierte Kirche:geo
 :47.4931089,7.615062099999932
END:VEVENT
BEGIN:VTIMEZONE
TZID:Europe/Zurich
X-LIC-LOCATION:Europe/Zurich
BEGIN:DAYLIGHT
DTSTART:20250330T030000
TZOFFSETFROM:+0100
TZOFFSETTO:+0200
TZNAME:CEST
END:DAYLIGHT
END:VTIMEZONE
END:VCALENDAR