BEGIN:VCALENDAR
VERSION:2.0
PRODID:-//wp-events-plugin.com//7.2.3.1//EN
TZID:Europe/Zurich
X-WR-TIMEZONE:Europe/Zurich
BEGIN:VEVENT
UID:690@thilomuster.info
DTSTART;TZID=Europe/Zurich:20240310T170000
DTEND;TZID=Europe/Zurich:20240310T183000
DTSTAMP:20240111T221929Z
URL:https://thilomuster.info/events/motettenkonzert-mit-cantus-rheinfelden
 -2/
SUMMARY:MOTETTENKONZERT mit Cantus Rheinfelden
DESCRIPTION:MOTETTENKONZERT\nmit Cantus Rheinfelden\,\nunter der Leitung vo
 n Angelika Hirsch\n\nWerke:\nJohann Chr. Fr. Bach: „Wachet auf\, ruft un
 s die Stimme“\nJoseph Gabriel Rheinberger: „Stabat Mater“\ngeistlich
 e Gesänge von Rheinberger für Sopran und Orgel\, sowie Orgelwerke von J.
 S. Bach\n\nThilo Muster\, Orgel\nAline Du Pasquier\, Sopran\n\nhttps://can
 tus-rheinfelden.ch
ATTACH;FMTTYPE=image/jpeg:https://thilomuster.info/wp-content/uploads/2024
 /01/DSC_0346-1536x1024-1.jpg
CATEGORIES:Konzerte
LOCATION:Stadtkirche Laufenburg\, Schlossbergsteig 197\, Laufenburg\, / CH\
 , 5080\, CH\, Schweiz
GEO:47.562363;8.061449
X-APPLE-STRUCTURED-LOCATION;VALUE=URI;X-ADDRESS=Schlossbergsteig 197\, Lauf
 enburg\, / CH\, 5080\, CH\, Schweiz;X-APPLE-RADIUS=100;X-TITLE=Stadtkirche
  Laufenburg:geo:47.562363,8.061449
END:VEVENT
BEGIN:VTIMEZONE
TZID:Europe/Zurich
X-LIC-LOCATION:Europe/Zurich
BEGIN:STANDARD
DTSTART:20231029T020000
TZOFFSETFROM:+0200
TZOFFSETTO:+0100
TZNAME:CET
END:STANDARD
END:VTIMEZONE
END:VCALENDAR