BEGIN:VCALENDAR
VERSION:2.0
PRODID:-//wp-events-plugin.com//7.2.3.1//EN
TZID:Europe/Zurich
X-WR-TIMEZONE:Europe/Zurich
BEGIN:VEVENT
UID:279@thilomuster.info
DTSTART;TZID=Europe/Zurich:20170408T173000
DTEND;TZID=Europe/Zurich:20170408T183000
DTSTAMP:20170301T222302Z
URL:https://thilomuster.info/events/orgelvesper-zur-passion/
SUMMARY:Orgelvesper zur Passion
DESCRIPTION:Werke von Samuel Rousseau\, Heinrich Scheidemann und Diderik Bu
 xtheude\nTexte: Hansmax Kessler
CATEGORIES:Konzerte
LOCATION:reformierte Kirche\, Stollenrain 20\, Arlesheim\,  / CH\, 4144\, S
 chweiz
GEO:47.4931089;7.615062099999932
X-APPLE-STRUCTURED-LOCATION;VALUE=URI;X-ADDRESS=Stollenrain 20\, Arlesheim\
 ,  / CH\, 4144\, Schweiz;X-APPLE-RADIUS=100;X-TITLE=reformierte Kirche:geo
 :47.4931089,7.615062099999932
END:VEVENT
BEGIN:VTIMEZONE
TZID:Europe/Zurich
X-LIC-LOCATION:Europe/Zurich
BEGIN:DAYLIGHT
DTSTART:20170326T030000
TZOFFSETFROM:+0100
TZOFFSETTO:+0200
TZNAME:CEST
END:DAYLIGHT
END:VTIMEZONE
END:VCALENDAR