BEGIN:VCALENDAR
VERSION:2.0
PRODID:-//wp-events-plugin.com//7.2.3.1//EN
TZID:Europe/Zurich
X-WR-TIMEZONE:Europe/Zurich
BEGIN:VEVENT
UID:658@thilomuster.info
DTSTART;TZID=Europe/Zurich:20230401T173000
DTEND;TZID=Europe/Zurich:20230401T181500
DTSTAMP:20230330T141645Z
URL:https://thilomuster.info/events/orgelvesper-zur-passionszeit-2/
SUMMARY:Orgelvesper zur Passionszeit
DESCRIPTION:Programm \n\nJohann Sebastian Bach (1685 –1750)\n– Prälud
 ium f-Moll BWV 534\n\nOtto Malling (1848-1915)\n– Gethsemane (aus op. 5
 4)\n– Die Worte der Liebe\n– Die Worte des Leidens\n– Die Worte des 
 Sieges\n– Epilog über die Finsternis und den zerrissenen Vorhang (aus 
 op. 81)\n\nJohann Sebastian Bach (1685 –1750)\n– Fuge f-Moll BWV 534
CATEGORIES:Konzerte,Recital
LOCATION:reformierte Kirche\, Stollenrain 20\, Arlesheim\,  / CH\, 4144\, S
 chweiz
GEO:47.4931089;7.615062099999932
X-APPLE-STRUCTURED-LOCATION;VALUE=URI;X-ADDRESS=Stollenrain 20\, Arlesheim\
 ,  / CH\, 4144\, Schweiz;X-APPLE-RADIUS=100;X-TITLE=reformierte Kirche:geo
 :47.4931089,7.615062099999932
END:VEVENT
BEGIN:VTIMEZONE
TZID:Europe/Zurich
X-LIC-LOCATION:Europe/Zurich
BEGIN:DAYLIGHT
DTSTART:20230326T030000
TZOFFSETFROM:+0100
TZOFFSETTO:+0200
TZNAME:CEST
END:DAYLIGHT
END:VTIMEZONE
END:VCALENDAR