BEGIN:VCALENDAR
VERSION:2.0
PRODID:-//wp-events-plugin.com//7.2.3.1//EN
TZID:Europe/Zurich
X-WR-TIMEZONE:Europe/Zurich
BEGIN:VEVENT
UID:524@thilomuster.info
DTSTART;TZID=Europe/Zurich:20190823T184500
DTEND;TZID=Europe/Zurich:20190823T200000
DTSTAMP:20190818T163410Z
URL:https://thilomuster.info/events/taragot-orgel-jubilaeumstour-musik-des
 -balkans-der-gypsies-und-klezmorim-11/
SUMMARY:Taragot & Orgel Jubiläumstour – Musik des Balkans\, der Gypsies 
 und Klezmorim
DESCRIPTION:Konzert mit Samuel Freiburghaus\, Taragot\, Klarinette\, Fru
 la\, Tilinca.\nMusik des Balkans\, der Gypsies und Klezmorim aus Rumänien
 \, Bulgarien\, Bosnien\, Armenien und Aserbaidschan.\n\nInfos: www.konzer
 tzyklus.ch
ATTACH;FMTTYPE=image/jpeg:https://thilomuster.info/wp-content/uploads/2017
 /11/TaragotOrgel-Serif.jpg
CATEGORIES:Konzerte,Taragot &amp; Orgel
LOCATION:Konzertzyklus Altstätten\, Kirche Hinterforst\, Baumrütiweg 11\,
  Hinterforst\, / CH\, 9452\, Schweiz
GEO:47.359215;9.531312999999955
X-APPLE-STRUCTURED-LOCATION;VALUE=URI;X-ADDRESS=Baumrütiweg 11\, Hinterfor
 st\, / CH\, 9452\, Schweiz;X-APPLE-RADIUS=100;X-TITLE=Konzertzyklus Altst
 ätten\, Kirche Hinterforst:geo:47.359215,9.531312999999955
END:VEVENT
BEGIN:VTIMEZONE
TZID:Europe/Zurich
X-LIC-LOCATION:Europe/Zurich
BEGIN:DAYLIGHT
DTSTART:20190331T030000
TZOFFSETFROM:+0100
TZOFFSETTO:+0200
TZNAME:CEST
END:DAYLIGHT
END:VTIMEZONE
END:VCALENDAR