BEGIN:VCALENDAR
VERSION:2.0
PRODID:-//wp-events-plugin.com//7.2.3.1//EN
TZID:Europe/Zurich
X-WR-TIMEZONE:Europe/Zurich
BEGIN:VEVENT
UID:407@thilomuster.info
DTSTART;TZID=Europe/Zurich:20190525T170000
DTEND;TZID=Europe/Zurich:20190525T183000
DTSTAMP:20180719T220359Z
URL:https://thilomuster.info/events/taragot-orgel-jubilaeumstour-musik-des
 -balkans-der-gypsies-und-klezmorim-7/
SUMMARY:Taragot & Orgel  Jubiläumstour – Musik des Balkans\, der Gypsies
  und Klezmorim
DESCRIPTION:Konzert mit Samuel Freiburghaus\, Taragot\, Klarinette\, Fru
 la\, Tilinca.\nMusik des Balkans\, der Gypsies und Klezmorim aus Rumänien
 \, Bulgarien\, Bosnien\, Armenien und Aserbaidschan am Heiden Festival
ATTACH;FMTTYPE=image/jpeg:https://thilomuster.info/wp-content/uploads/2017
 /11/TaragotOrgel-Serif.jpg
CATEGORIES:Konzerte,Taragot &amp; Orgel
LOCATION:Heiden Festival\, ev. Kirche\, Kirchplatz 1\, Heiden\, / CH\, 9410
 \, Schweiz
GEO:47.4449428;9.535651199999961
X-APPLE-STRUCTURED-LOCATION;VALUE=URI;X-ADDRESS=Kirchplatz 1\, Heiden\, / C
 H\, 9410\, Schweiz;X-APPLE-RADIUS=100;X-TITLE=Heiden Festival\, ev. Kirche
 :geo:47.4449428,9.535651199999961
END:VEVENT
BEGIN:VTIMEZONE
TZID:Europe/Zurich
X-LIC-LOCATION:Europe/Zurich
BEGIN:DAYLIGHT
DTSTART:20190331T030000
TZOFFSETFROM:+0100
TZOFFSETTO:+0200
TZNAME:CEST
END:DAYLIGHT
END:VTIMEZONE
END:VCALENDAR