BEGIN:VCALENDAR
VERSION:2.0
PRODID:-//wp-events-plugin.com//7.2.3.1//EN
TZID:Europe/Zurich
X-WR-TIMEZONE:Europe/Zurich
BEGIN:VEVENT
UID:296@thilomuster.info
DTSTART;TZID=Europe/Zurich:20180107T170000
DTEND;TZID=Europe/Zurich:20180107T180000
DTSTAMP:20171019T165423Z
URL:https://thilomuster.info/events/taragot-orgel-musik-des-balkans-der-gy
 psies-und-ostjuden/
SUMMARY:Taragot & Orgel Jubiläumstour – Musik des Balkans\, der Gypsies 
 und Klezmorim
DESCRIPTION:Konzert zusammen mit Samuel Freiburghaus\, Taragot\, Klarinet
 te\, Frula\, Tilinca und Anatole Muster\, Perkussion\n\nMusik des Balkan
 s\, der Zigeuner und Ostjuden aus Rumänien\, Bulgarien\, Bosnien\, Armeni
 en und Aserbaidschan.
CATEGORIES:Konzerte,Taragot &amp; Orgel
LOCATION:Stadtkirche\, Kirchplatz 26\, Zofingen\, / CH\, 4800\, Schweiz
GEO:47.28852089999999;7.944749999999999
X-APPLE-STRUCTURED-LOCATION;VALUE=URI;X-ADDRESS=Kirchplatz 26\, Zofingen\, 
 / CH\, 4800\, Schweiz;X-APPLE-RADIUS=100;X-TITLE=Stadtkirche:geo:47.288520
 89999999,7.944749999999999
END:VEVENT
BEGIN:VTIMEZONE
TZID:Europe/Zurich
X-LIC-LOCATION:Europe/Zurich
BEGIN:STANDARD
DTSTART:20171029T020000
TZOFFSETFROM:+0200
TZOFFSETTO:+0100
TZNAME:CET
END:STANDARD
END:VTIMEZONE
END:VCALENDAR