BEGIN:VCALENDAR
VERSION:2.0
PRODID:-//wp-events-plugin.com//7.2.3.1//EN
TZID:Europe/Zurich
X-WR-TIMEZONE:Europe/Zurich
BEGIN:VEVENT
UID:570@thilomuster.info
DTSTART;TZID=Europe/Zurich:20211107T170000
DTEND;TZID=Europe/Zurich:20211107T181500
DTSTAMP:20200921T153442Z
URL:https://thilomuster.info/events/taragot-orgue-le-souffle-des-balkans-f
 ranchement-decoiffant-2/
SUMMARY:Taragot & Orgue – le souffle des Balkans : franchement décoiffan
 t !
DESCRIPTION:Samuel Freiburghaus\, taragot\, clarinettes\, froula\, tilinca\
 nThilo Muster\, orgue\n\nMusique des Balkans\, des Tziganes et Klezmorim d
 e Roumaine\, Bulgarie\, Serbie\, Albanie\, Grèce\, Arménie et Azerbaïdj
 an.\n\nwww.orgueslareole.com
CATEGORIES:Konzerte,Taragot &amp; Orgel
LOCATION:Festival d'orgue – Eglise St-Pierre\, 2 Rue Jean Renou\, La Réo
 le/Bordeaux\, / F\, 33190\, Frankreich
GEO:44.5812;-0.040152
X-APPLE-STRUCTURED-LOCATION;VALUE=URI;X-ADDRESS=2 Rue Jean Renou\, La Réol
 e/Bordeaux\, / F\, 33190\, Frankreich;X-APPLE-RADIUS=100;X-TITLE=Festival 
 d'orgue – Eglise St-Pierre:geo:44.5812,-0.040152
END:VEVENT
BEGIN:VTIMEZONE
TZID:Europe/Zurich
X-LIC-LOCATION:Europe/Zurich
BEGIN:STANDARD
DTSTART:20211031T020000
TZOFFSETFROM:+0200
TZOFFSETTO:+0100
TZNAME:CET
END:STANDARD
END:VTIMEZONE
END:VCALENDAR