BEGIN:VCALENDAR
VERSION:2.0
PRODID:-//wp-events-plugin.com//7.2.3.1//EN
TZID:Europe/Zurich
X-WR-TIMEZONE:Europe/Zurich
BEGIN:VEVENT
UID:597@thilomuster.info
DTSTART;TZID=Europe/Zurich:20220418T170000
DTEND;TZID=Europe/Zurich:20220418T181500
DTSTAMP:20211101T104246Z
URL:https://thilomuster.info/events/taragot-orgue-le-souffle-des-balkans-f
 ranchement-decoiffant-3/
SUMMARY:Taragot & Orgue – le souffle des Balkans : franchement décoiffan
 t !
DESCRIPTION:Samuel Freiburghaus\, taragot\, clarinettes\, froula\, tilinca\
 nThilo Muster\, orgue\n\nMusique des Balkans\, des Tziganes et Klezmorim d
 e Roumaine\, Bulgarie\, Serbie\, Albanie\, Grèce\, Arménie et Azerbaïdj
 an.\n\nwww.festiorgues.fr
ATTACH;FMTTYPE=image/jpeg:https://thilomuster.info/wp-content/uploads/2021
 /11/Flyerneufr-scaled.jpg
CATEGORIES:Konzerte,Taragot &amp; Orgel
LOCATION:Festiorgues – le chant des orgues basques\, Église St-Jean-Bapt
 iste\, rue Léon Gambetta\, Saint-Jean-de-Luz\, / F\, 64500\, Frankreich
GEO:43.389124;-1.660094
X-APPLE-STRUCTURED-LOCATION;VALUE=URI;X-ADDRESS=rue Léon Gambetta\, Saint-
 Jean-de-Luz\, / F\, 64500\, Frankreich;X-APPLE-RADIUS=100;X-TITLE=Festiorg
 ues – le chant des orgues basques\, Église St-Jean-Baptiste:geo:43.3891
 24,-1.660094
END:VEVENT
BEGIN:VTIMEZONE
TZID:Europe/Zurich
X-LIC-LOCATION:Europe/Zurich
BEGIN:DAYLIGHT
DTSTART:20220327T030000
TZOFFSETFROM:+0100
TZOFFSETTO:+0200
TZNAME:CEST
END:DAYLIGHT
END:VTIMEZONE
END:VCALENDAR