BEGIN:VCALENDAR
VERSION:2.0
PRODID:-//wp-events-plugin.com//7.2.3.1//EN
TZID:Europe/Zurich
X-WR-TIMEZONE:Europe/Zurich
BEGIN:VEVENT
UID:600@thilomuster.info
DTSTART;TZID=Europe/Zurich:20220327T170000
DTEND;TZID=Europe/Zurich:20220327T181500
DTSTAMP:20211103T115717Z
URL:https://thilomuster.info/events/taragot-orgue-le-souffle-des-balkans-f
 ranchement-decoiffant-4/
SUMMARY:Taragot & Orgue – le souffle des Balkans : franchement décoiffan
 t !
DESCRIPTION:Concert avec Samuel Freiburghaus\, taragot\, clarinette\, frul
 a\, tilinca\n\nMusique des Balkans\, tzigane et klezmer de Roumanie\, Bulg
 arie\, Bosnie\, Arménie und Azerbaidjan.
ATTACH;FMTTYPE=image/jpeg:https://thilomuster.info/wp-content/uploads/2021
 /11/Flyerneufr-scaled.jpg
CATEGORIES:Konzerte,Taragot &amp; Orgel
LOCATION:Temple d'Auvernier\, Chemin des Rochettes\, Milvignes\, / CH\, 201
 2\, Schweiz
X-APPLE-STRUCTURED-LOCATION;VALUE=URI;X-ADDRESS=Chemin des Rochettes\, Milv
 ignes\, / CH\, 2012\, Schweiz;X-APPLE-RADIUS=100;X-TITLE=Temple d'Auvernie
 r:geo:0,0
END:VEVENT
BEGIN:VTIMEZONE
TZID:Europe/Zurich
X-LIC-LOCATION:Europe/Zurich
BEGIN:DAYLIGHT
DTSTART:20220327T030000
TZOFFSETFROM:+0100
TZOFFSETTO:+0200
TZNAME:CEST
END:DAYLIGHT
END:VTIMEZONE
END:VCALENDAR