BEGIN:VCALENDAR
VERSION:2.0
PRODID:-//wp-events-plugin.com//7.2.3.1//EN
TZID:Europe/Zurich
X-WR-TIMEZONE:Europe/Zurich
BEGIN:VEVENT
UID:606@thilomuster.info
DTSTART;TZID=Europe/Zurich:20220911T173000
DTEND;TZID=Europe/Zurich:20220911T184500
DTSTAMP:20220328T124233Z
URL:https://thilomuster.info/events/taragot-orgue-le-souffle-des-balkans-f
 ranchement-decoiffant-5/
SUMMARY:Taragot & Orgue – le souffle des Balkans : franchement décoiffan
 t !
DESCRIPTION:Concert avec Samuel Freiburghaus\, taragot\, clarinette\, frul
 a\, tilinca\n\nMusique des Balkans\, tzigane et klezmer de Roumanie\, Bulg
 arie\, Bosnie\, Arménie und Azerbaidjan.\n\nbillets et info: www.lesdm.ch
ATTACH;FMTTYPE=image/jpeg:https://thilomuster.info/wp-content/uploads/2021
 /11/Flyerneufr-scaled.jpg
CATEGORIES:Konzerte,Taragot &amp; Orgel
LOCATION:Festival Musicales JUBE\, Le Salon de Musique Vierne\, Cormoret\, 
 / CH\, 2612\, Schweiz
GEO:47.173662;7.053262
X-APPLE-STRUCTURED-LOCATION;VALUE=URI;X-ADDRESS=Le Salon de Musique Vierne\
 , Cormoret\, / CH\, 2612\, Schweiz;X-APPLE-RADIUS=100;X-TITLE=Festival Mus
 icales JUBE:geo:47.173662,7.053262
END:VEVENT
BEGIN:VTIMEZONE
TZID:Europe/Zurich
X-LIC-LOCATION:Europe/Zurich
BEGIN:DAYLIGHT
DTSTART:20220327T030000
TZOFFSETFROM:+0100
TZOFFSETTO:+0200
TZNAME:CEST
END:DAYLIGHT
END:VTIMEZONE
END:VCALENDAR