BEGIN:VCALENDAR
VERSION:2.0
PRODID:-//wp-events-plugin.com//7.2.3.1//EN
TZID:Europe/Zurich
X-WR-TIMEZONE:Europe/Zurich
BEGIN:VEVENT
UID:672@thilomuster.info
DTSTART;TZID=Europe/Zurich:20240204T170000
DTEND;TZID=Europe/Zurich:20240204T181500
DTSTAMP:20230729T213649Z
URL:https://thilomuster.info/events/taragot-orgue-le-souffle-des-balkans-f
 ranchement-decoiffant-6/
SUMMARY:Taragot & Orgue – le souffle des Balkans : franchement décoiffan
 t !
DESCRIPTION:Samuel Freiburghaus\, taragot\, clarinettes\, froula\, tilinca\
 nThilo Muster\, orgue\n\nMusique des Balkans\, des Tziganes et Klezmorim d
 e Roumaine\, Bulgarie\, Serbie\, Albanie\, Grèce\, Arménie et Azerbaïdj
 an.\n\n&nbsp\;
ATTACH;FMTTYPE=image/jpeg:https://thilomuster.info/wp-content/uploads/2021
 /11/Flyerneufr-scaled.jpg
CATEGORIES:Konzerte,Taragot &amp; Orgel
LOCATION:Eglise Notre Dame\, rue Curiale\, Talant\, / F\, 21214\, Frankreic
 h
GEO:47.3361989;5.003352199999995
X-APPLE-STRUCTURED-LOCATION;VALUE=URI;X-ADDRESS=rue Curiale\, Talant\, / F\
 , 21214\, Frankreich;X-APPLE-RADIUS=100;X-TITLE=Eglise Notre Dame:geo:47.3
 361989,5.003352199999995
END:VEVENT
BEGIN:VTIMEZONE
TZID:Europe/Zurich
X-LIC-LOCATION:Europe/Zurich
BEGIN:STANDARD
DTSTART:20231029T020000
TZOFFSETFROM:+0200
TZOFFSETTO:+0100
TZNAME:CET
END:STANDARD
END:VTIMEZONE
END:VCALENDAR